BEGIN:VCALENDAR
VERSION:2.0
PRODID:-//Silverback Estate Winery - ECPv6.15.20//NONSGML v1.0//EN
CALSCALE:GREGORIAN
METHOD:PUBLISH
X-WR-CALNAME:Silverback Estate Winery
X-ORIGINAL-URL:https://silverbackwine.com
X-WR-CALDESC:Events for Silverback Estate Winery
REFRESH-INTERVAL;VALUE=DURATION:PT1H
X-Robots-Tag:noindex
X-PUBLISHED-TTL:PT1H
BEGIN:VTIMEZONE
TZID:America/Vancouver
BEGIN:DAYLIGHT
TZOFFSETFROM:-0800
TZOFFSETTO:-0700
TZNAME:PDT
DTSTART:20250309T100000
END:DAYLIGHT
BEGIN:STANDARD
TZOFFSETFROM:-0700
TZOFFSETTO:-0800
TZNAME:PST
DTSTART:20251102T090000
END:STANDARD
BEGIN:DAYLIGHT
TZOFFSETFROM:-0800
TZOFFSETTO:-0700
TZNAME:PDT
DTSTART:20260308T100000
END:DAYLIGHT
BEGIN:STANDARD
TZOFFSETFROM:-0700
TZOFFSETTO:-0800
TZNAME:PST
DTSTART:20261101T090000
END:STANDARD
BEGIN:DAYLIGHT
TZOFFSETFROM:-0800
TZOFFSETTO:-0700
TZNAME:PDT
DTSTART:20270314T100000
END:DAYLIGHT
BEGIN:STANDARD
TZOFFSETFROM:-0700
TZOFFSETTO:-0800
TZNAME:PST
DTSTART:20271107T090000
END:STANDARD
END:VTIMEZONE
BEGIN:VEVENT
DTSTART;TZID=America/Vancouver:20260524T100000
DTEND;TZID=America/Vancouver:20260524T110000
DTSTAMP:20260423T012702
CREATED:20260408T235515Z
LAST-MODIFIED:20260408T235515Z
UID:3268-1779616800-1779620400@silverbackwine.com
SUMMARY:Yoga in the Winery
DESCRIPTION:Yoga in the Winery! 🧘‍♀️💓🍷 \nRoll out your mat and join us for a cozy\, feel-good flow surrounded by the beauty of the winery. This all-levels class is designed to wake up the body\, calm the mind\, and leave you feeling refreshed and grounded. \n📅Date: May 24th 🕒Time: 10:00-11:00 AM📍Location: Silverback Estate Winery🎟️Cost: $15 per person \nFor $15 per person\, your experience includes the full class plus a well-earned complementary glass of wine to enjoy. Stretch\, sip\, and stay awhile! \n‼️Bring your own mat and get ready to move\, breathe\, and unwind in your favorite setting. \nSpots are limited—reserve yours and start your day the best way possible.
URL:https://silverbackwine.com/events/yoga-in-the-winery-6/
LOCATION:Silverback Estate Winery\, 11374 Sunnyview Road NE\, Salem\, OR\, 97317\, United States
END:VEVENT
BEGIN:VEVENT
DTSTART;TZID=America/Vancouver:20260524T110000
DTEND;TZID=America/Vancouver:20260524T150000
DTSTAMP:20260423T012702
CREATED:20260319T191035Z
LAST-MODIFIED:20260407T175508Z
UID:3241-1779620400-1779634800@silverbackwine.com
SUMMARY:Wine & Wags 🍷🐾
DESCRIPTION:Wine & Wags 🍷🐾 \nWhere good wine and good dogs find their people! \nJoin us for a heartwarming day in the vineyard in partnership with Woodscreek Rescue! \nWine & Wags is all about bringing people\, pups\, and purpose together! Whether you’re looking to adopt\, enjoy a relaxing afternoon\, or simply soak in the joy of being surrounded by dogs and wine. \n📅Sunday\, May 24th\n⏲ 11:00 AM – 1:00 PM: Walk & Sip with Adoptable dogs from Woodscreek Rescue\n⏲ 1:00 PM – 3:00 PM: Guest dogs welcome for Wine & Wags! \n🎟Free Admission  \n📍 Sliverback Estate Winery  \n 
URL:https://silverbackwine.com/events/wine-wags-%f0%9f%8d%b7%f0%9f%90%be/
LOCATION:Silverback Estate Winery\, 11374 Sunnyview Road NE\, Salem\, OR\, 97317\, United States
END:VEVENT
BEGIN:VEVENT
DTSTART;TZID=America/Vancouver:20260524T130000
DTEND;TZID=America/Vancouver:20260524T170000
DTSTAMP:20260423T012702
CREATED:20260403T213415Z
LAST-MODIFIED:20260403T213415Z
UID:3261-1779627600-1779642000@silverbackwine.com
SUMMARY:A Nurse That Bakes – Bakery Pop-Up
DESCRIPTION:Join us at Silverback Estate Winery for something seriously delish! \n📅Sunday\, May 24th🥯A Nurse That Bakes – Bakery Pop-Up🕒1:00 PM – 5:00 PM🎟️Free to attend \nA Nurse That Bakes sets up shop at Silverback with a table full of fresh\, locally made bread and irresistible baked goods. \nPair your favorite bottle or glass with something fresh from the oven and make a Sunday of it. \nPro tip: Come early. The pop-up goes until sold out — and she always sells out. \nGrab your Troop \, claim your wine\, and don’t miss it. \n\n\n 
URL:https://silverbackwine.com/events/a-nurse-that-bakes-bakery-pop-up-9/
LOCATION:Silverback Estate Winery\, 11374 Sunnyview Road NE\, Salem\, OR\, 97317\, United States
ORGANIZER;CN="Silverback Estate Winery":MAILTO:info@silverbackwine.com
END:VEVENT
BEGIN:VEVENT
DTSTART;TZID=America/Vancouver:20260606T080000
DTEND;TZID=America/Vancouver:20260606T150000
DTSTAMP:20260423T012702
CREATED:20260415T225225Z
LAST-MODIFIED:20260415T225225Z
UID:3273-1780732800-1780758000@silverbackwine.com
SUMMARY:Closed to the Public till 3pm
DESCRIPTION:We will be closed to the public till 3pm for our Members Pick-up party!  \n\nReservations will be closed for the day\nMembers-only access: from 11:00 AM – 3:00 PM\nPublic Hours: Non-members are welcome starting at 3:00 PM through 7:00 PM\n\n🎶 Live Music | 3:00 PM – 5:00 PM | False Alarm Band!\nStick around as we open back up to the public and enjoy live music in the vineyard. \nFalse Alarm Band! \n 
URL:https://silverbackwine.com/events/closed-to-the-public-till-3pm/
END:VEVENT
BEGIN:VEVENT
DTSTART;TZID=America/Vancouver:20260606T110000
DTEND;TZID=America/Vancouver:20260606T150000
DTSTAMP:20260423T012702
CREATED:20260415T205659Z
LAST-MODIFIED:20260416T174632Z
UID:3271-1780743600-1780758000@silverbackwine.com
SUMMARY:Save The Date - Club Member Pick Up Party!
DESCRIPTION:June 6th. Save it. 🍷 \nWe’re shutting it down (to the public 😉) and opening it up just for you. Keep scrolling to see details on how to RSVP! \nFor a few hours\, the tasting room turns into your own private jungle escape. \nMembers Only | 11AM – 3PM• Exclusive pours you won’t find anywhere else – new sips just for you! This is your moment to sip something rare and feel like a proper Silverback VIP that you are! \nPizza & Perks | 12PM – 6PM 🍕Grab your pizza from Hook & Ladder and settle in\, we’re keeping things rolling a little longer for you! \nMember Pizza Benefits! \nFounders MembersUp to 4 guests (6 total) \n\n2 pizza slices per membership\n\nSilverback MembersUp to 2 guests (4 total) \n\n1 pizza ticket per membership\n\nJennifer and Julie will be checking guests in and handing out pizza tickets\, so be sure to check in when you arrive! \n\n🎶 Live Music | 3:00 PM – 5:00 PM | False Alarm BandStick around as we open back up to the public and enjoy live music out in the vineyard!\n\nPublic HoursNon-members are welcome starting at 3:00 PM through 7:00 PM.\n\n📩 RSVP Required\nTo keep the experience smooth for everyone\, we kindly ask all members to RSVP in advance. \nPlease email: info@silverbackwine.com\nInclude: your name + total number of guests attending \n(You’ll receive a few friendly reminders—we just want to make sure everyone in the troop has a spot!)
URL:https://silverbackwine.com/events/save-the-date-club-member-pick-up-party/
LOCATION:Silverback Estate Winery\, 11374 Sunnyview Road NE\, Salem\, OR\, 97317\, United States
ORGANIZER;CN="Silverback Estate Winery":MAILTO:info@silverbackwine.com
END:VEVENT
BEGIN:VEVENT
DTSTART;TZID=America/Vancouver:20260606T150000
DTEND;TZID=America/Vancouver:20260606T190000
DTSTAMP:20260423T012702
CREATED:20260421T233333Z
LAST-MODIFIED:20260421T233442Z
UID:3280-1780758000-1780772400@silverbackwine.com
SUMMARY:🎶Live Music: False Alarm Duo - Open to Public at 3pm
DESCRIPTION:Live Music with The False Alarm Band 🔥\n3:00 PM – 5:00 PM\nAfter our Club Member event\, we open back up to the public and for live music in the vineyard. \nThe False Alarm Band is a band you won’t want to miss! 👨‍🚒 These local Firefighter musicians play tunes over many genres. Everything from Ambrosia to Usher! Bringing hot tunes for you to enjoy and great energy that will be sure to make you pull the fire alarm (metaphorically of course!) \nA note to you from the band – Jason and Jasie Duo are heading out to Salem! Come out for a glass of wine and tunes. This winery is just a few minutes off the freeway tucked away in the beautiful countryside of our Capital. 3pm till done! Hope to see ya there! \nCheck out their Facebook for upcoming shows and information! \n 
URL:https://silverbackwine.com/events/%f0%9f%8e%b6live-music-false-alarm-duo-open-to-public-at-3pm/
LOCATION:Silverback Estate Winery\, 11374 Sunnyview Road NE\, Salem\, OR\, 97317\, United States
END:VEVENT
BEGIN:VEVENT
DTSTART;TZID=America/Vancouver:20260607T130000
DTEND;TZID=America/Vancouver:20260607T170000
DTSTAMP:20260423T012702
CREATED:20260403T213633Z
LAST-MODIFIED:20260403T213633Z
UID:3262-1780837200-1780851600@silverbackwine.com
SUMMARY:A Nurse That Bakes – Bakery Pop-Up
DESCRIPTION:Join us at Silverback Estate Winery for something seriously delish! \n📅Sunday\, June 7th\n🥯A Nurse That Bakes – Bakery Pop-Up\n🕒1:00 PM – 5:00 PM\n🎟️Free to attend \nA Nurse That Bakes sets up shop at Silverback with a table full of fresh\, locally made bread and irresistible baked goods. \nPair your favorite bottle or glass with something fresh from the oven and make a Sunday of it. \nPro tip: Come early. The pop-up goes until sold out — and she always sells out. \nGrab your Troop \, claim your wine\, and don’t miss it.
URL:https://silverbackwine.com/events/a-nurse-that-bakes-bakery-pop-up-10/
LOCATION:Silverback Estate Winery\, 11374 Sunnyview Road NE\, Salem\, OR\, 97317\, United States
ORGANIZER;CN="Silverback Estate Winery":MAILTO:info@silverbackwine.com
END:VEVENT
BEGIN:VEVENT
DTSTART;TZID=America/Vancouver:20260613T110000
DTEND;TZID=America/Vancouver:20260613T140000
DTSTAMP:20260423T012702
CREATED:20260422T181451Z
LAST-MODIFIED:20260422T181451Z
UID:3285-1781348400-1781359200@silverbackwine.com
SUMMARY:Arber Rose Farms Saturday Market 🌸
DESCRIPTION:Join us for a beautiful afternoon at Silverback Estate as Arber Rose Farms brings their stunning selection of locally grown blooms to our Saturday Market. From 11–2pm\, explore fresh\, seasonal flowers and thoughtfully crafted arrangements that capture the essence of the Pacific Northwest. \nSip\, stroll\, and shop while enjoying the vibrant atmosphere—perfect for picking up a bouquet\, finding a unique gift\, or simply soaking in the charm of the vineyard! \n  \n 
URL:https://silverbackwine.com/events/arber-rose-farms-saturday-market-%f0%9f%8c%b8/
END:VEVENT
BEGIN:VEVENT
DTSTART;TZID=America/Vancouver:20260613T150000
DTEND;TZID=America/Vancouver:20260613T170000
DTSTAMP:20260423T012702
CREATED:20260422T181130Z
LAST-MODIFIED:20260422T181234Z
UID:3284-1781362800-1781370000@silverbackwine.com
SUMMARY:🎶Live Music: Electr Acoustis
DESCRIPTION:Join up for an afternoon of great music with Electr Acoustis from 3pm to 5pm! \nThey will be brining a large repertoire of your favorites to our tasting room!   \nBand Information: \nThe Electr@Coustics (elect-ruh-coostix) are Leland Hallahan on acoustic guitar and vox\, Sam Wells on lead guitar and vox and Mike Lowery on percussion and inferior decorating. Their low-volume vibe is perfect for tap houses\, wineries and corporate events. \nCheck them out on Facebook for videos and their upcoming shows! \n 
URL:https://silverbackwine.com/events/%f0%9f%8e%b6live-music-electr-acoustis/
LOCATION:Silverback Estate Winery\, 11374 Sunnyview Road NE\, Salem\, OR\, 97317\, United States
END:VEVENT
BEGIN:VEVENT
DTSTART;TZID=America/Vancouver:20260627T120000
DTEND;TZID=America/Vancouver:20260627T160000
DTSTAMP:20260423T012702
CREATED:20260422T175138Z
LAST-MODIFIED:20260422T175138Z
UID:3281-1782561600-1782576000@silverbackwine.com
SUMMARY:The Chardonnay Festival at Tumwater Vineyard
DESCRIPTION:The Silverback Troop will be at The Chardonnay Festival on June 27th from 12-4 at Tumwater Winery!  \nCheck back in for more details as we get closer to the event!
URL:https://silverbackwine.com/events/the-chardonnay-festival-at-tumwater-vineyard/
LOCATION:Tumwater Vineyard\, 375 SW Barrel House Wy\, West Linn\, OR\, 97068\, United States
END:VEVENT
END:VCALENDAR