BEGIN:VCALENDAR
VERSION:2.0
PRODID:-//Silverback Estate Winery - ECPv6.15.20//NONSGML v1.0//EN
CALSCALE:GREGORIAN
METHOD:PUBLISH
X-WR-CALNAME:Silverback Estate Winery
X-ORIGINAL-URL:https://silverbackwine.com
X-WR-CALDESC:Events for Silverback Estate Winery
REFRESH-INTERVAL;VALUE=DURATION:PT1H
X-Robots-Tag:noindex
X-PUBLISHED-TTL:PT1H
BEGIN:VTIMEZONE
TZID:America/Vancouver
BEGIN:DAYLIGHT
TZOFFSETFROM:-0800
TZOFFSETTO:-0700
TZNAME:PDT
DTSTART:20250309T100000
END:DAYLIGHT
BEGIN:STANDARD
TZOFFSETFROM:-0700
TZOFFSETTO:-0800
TZNAME:PST
DTSTART:20251102T090000
END:STANDARD
BEGIN:DAYLIGHT
TZOFFSETFROM:-0800
TZOFFSETTO:-0700
TZNAME:PDT
DTSTART:20260308T100000
END:DAYLIGHT
BEGIN:STANDARD
TZOFFSETFROM:-0700
TZOFFSETTO:-0800
TZNAME:PST
DTSTART:20261101T090000
END:STANDARD
BEGIN:DAYLIGHT
TZOFFSETFROM:-0800
TZOFFSETTO:-0700
TZNAME:PDT
DTSTART:20270314T100000
END:DAYLIGHT
BEGIN:STANDARD
TZOFFSETFROM:-0700
TZOFFSETTO:-0800
TZNAME:PST
DTSTART:20271107T090000
END:STANDARD
END:VTIMEZONE
BEGIN:VEVENT
DTSTART;TZID=America/Vancouver:20260613T110000
DTEND;TZID=America/Vancouver:20260613T140000
DTSTAMP:20260424T070255
CREATED:20260422T181451Z
LAST-MODIFIED:20260422T181451Z
UID:3285-1781348400-1781359200@silverbackwine.com
SUMMARY:Arber Rose Farms Saturday Market 🌸
DESCRIPTION:Join us for a beautiful afternoon at Silverback Estate as Arber Rose Farms brings their stunning selection of locally grown blooms to our Saturday Market. From 11–2pm\, explore fresh\, seasonal flowers and thoughtfully crafted arrangements that capture the essence of the Pacific Northwest. \nSip\, stroll\, and shop while enjoying the vibrant atmosphere—perfect for picking up a bouquet\, finding a unique gift\, or simply soaking in the charm of the vineyard! \n  \n 
URL:https://silverbackwine.com/events/arber-rose-farms-saturday-market-%f0%9f%8c%b8/
END:VEVENT
BEGIN:VEVENT
DTSTART;TZID=America/Vancouver:20260613T150000
DTEND;TZID=America/Vancouver:20260613T170000
DTSTAMP:20260424T070255
CREATED:20260422T181130Z
LAST-MODIFIED:20260422T181234Z
UID:3284-1781362800-1781370000@silverbackwine.com
SUMMARY:🎶Live Music: Electr Acoustis
DESCRIPTION:Join up for an afternoon of great music with Electr Acoustis from 3pm to 5pm! \nThey will be brining a large repertoire of your favorites to our tasting room!   \nBand Information: \nThe Electr@Coustics (elect-ruh-coostix) are Leland Hallahan on acoustic guitar and vox\, Sam Wells on lead guitar and vox and Mike Lowery on percussion and inferior decorating. Their low-volume vibe is perfect for tap houses\, wineries and corporate events. \nCheck them out on Facebook for videos and their upcoming shows! \n 
URL:https://silverbackwine.com/events/%f0%9f%8e%b6live-music-electr-acoustis/
LOCATION:Silverback Estate Winery\, 11374 Sunnyview Road NE\, Salem\, OR\, 97317\, United States
END:VEVENT
BEGIN:VEVENT
DTSTART;TZID=America/Vancouver:20260627T120000
DTEND;TZID=America/Vancouver:20260627T160000
DTSTAMP:20260424T070255
CREATED:20260422T175138Z
LAST-MODIFIED:20260422T175138Z
UID:3281-1782561600-1782576000@silverbackwine.com
SUMMARY:The Chardonnay Festival at Tumwater Vineyard
DESCRIPTION:The Silverback Troop will be at The Chardonnay Festival on June 27th from 12-4 at Tumwater Winery!  \nCheck back in for more details as we get closer to the event!
URL:https://silverbackwine.com/events/the-chardonnay-festival-at-tumwater-vineyard/
LOCATION:Tumwater Vineyard\, 375 SW Barrel House Wy\, West Linn\, OR\, 97068\, United States
END:VEVENT
END:VCALENDAR