BEGIN:VCALENDAR
VERSION:2.0
PRODID:-//Silverback Estate Winery - ECPv6.15.20//NONSGML v1.0//EN
CALSCALE:GREGORIAN
METHOD:PUBLISH
X-WR-CALNAME:Silverback Estate Winery
X-ORIGINAL-URL:https://silverbackwine.com
X-WR-CALDESC:Events for Silverback Estate Winery
REFRESH-INTERVAL;VALUE=DURATION:PT1H
X-Robots-Tag:noindex
X-PUBLISHED-TTL:PT1H
BEGIN:VTIMEZONE
TZID:America/Vancouver
BEGIN:DAYLIGHT
TZOFFSETFROM:-0800
TZOFFSETTO:-0700
TZNAME:PDT
DTSTART:20250309T100000
END:DAYLIGHT
BEGIN:STANDARD
TZOFFSETFROM:-0700
TZOFFSETTO:-0800
TZNAME:PST
DTSTART:20251102T090000
END:STANDARD
BEGIN:DAYLIGHT
TZOFFSETFROM:-0800
TZOFFSETTO:-0700
TZNAME:PDT
DTSTART:20260308T100000
END:DAYLIGHT
BEGIN:STANDARD
TZOFFSETFROM:-0700
TZOFFSETTO:-0800
TZNAME:PST
DTSTART:20261101T090000
END:STANDARD
BEGIN:DAYLIGHT
TZOFFSETFROM:-0800
TZOFFSETTO:-0700
TZNAME:PDT
DTSTART:20270314T100000
END:DAYLIGHT
BEGIN:STANDARD
TZOFFSETFROM:-0700
TZOFFSETTO:-0800
TZNAME:PST
DTSTART:20271107T090000
END:STANDARD
END:VTIMEZONE
BEGIN:VEVENT
DTSTART;TZID=America/Vancouver:20260418T110000
DTEND;TZID=America/Vancouver:20260418T170000
DTSTAMP:20260420T033248
CREATED:20260224T230345Z
LAST-MODIFIED:20260324T231045Z
UID:3222-1776510000-1776531600@silverbackwine.com
SUMMARY:🌷 Tasting in the Tulips at Wooden Shoe Tulip Farm
DESCRIPTION:Get ready to sip in full bloom 🌷🍷 \nSilverback is heading to the flower fields at Wooden Shoe Tulip Farm for a weekend of beverages\, live music\, delicious bites\, and rows upon rows of jaw-dropping blooms. We’re bringing the bold pours — you bring your jungle spirit. Wander the fields\, snap the photos\, and swing by our booth to taste wines worthy of going bananas over. \nSunshine\, sips\, and a little gorilla energy? Now that’s how the troop does tulip season. \n🎟 Get your tickets here!
URL:https://silverbackwine.com/events/%f0%9f%8c%b7-tasting-in-the-tulips-at-wooden-shoe-tulip-farm/
END:VEVENT
END:VCALENDAR